BEGIN:VCALENDAR
VERSION:2.0
PRODID:spatie/icalendar-generator
NAME:K2 Tax & Technology: Gearing Up for Your Best Busy Season
X-WR-CALNAME:K2 Tax & Technology: Gearing Up for Your Best Busy Season
BEGIN:VTIMEZONE
TZID:America/Denver
BEGIN:STANDARD
DTSTART:20261101T010000
TZOFFSETFROM:-0600
TZOFFSETTO:-0700
END:STANDARD
BEGIN:DAYLIGHT
DTSTART:20270314T010000
TZOFFSETFROM:-0700
TZOFFSETTO:-0600
END:DAYLIGHT
END:VTIMEZONE
BEGIN:VTIMEZONE
TZID:UTC
BEGIN:STANDARD
DTSTART:20250727T032404
TZOFFSETFROM:+0000
TZOFFSETTO:+0000
END:STANDARD
END:VTIMEZONE
BEGIN:VEVENT
UID:69e990d4f3908
DTSTAMP:20260423T032404Z
SUMMARY:K2 Tax & Technology: Gearing Up for Your Best Busy Season
LOCATION: 
URL:https://cocpa.org/catalog/events/14270306-k2-tax-technology-gearing-up-
 for-your-best-busy-season-2026-23-12
DTSTART;TZID=America/Denver:20261223T083000
DTEND;TZID=America/Denver:20261223T160000
END:VEVENT
END:VCALENDAR