BEGIN:VCALENDAR
VERSION:2.0
PRODID:spatie/icalendar-generator
NAME:K2 Rocky Mountain Technology Conference
X-WR-CALNAME:K2 Rocky Mountain Technology Conference
BEGIN:VTIMEZONE
TZID:America/Denver
BEGIN:STANDARD
DTSTART:20261101T010000
TZOFFSETFROM:-0600
TZOFFSETTO:-0700
END:STANDARD
BEGIN:DAYLIGHT
DTSTART:20270314T010000
TZOFFSETFROM:-0700
TZOFFSETTO:-0600
END:DAYLIGHT
END:VTIMEZONE
BEGIN:VTIMEZONE
TZID:UTC
BEGIN:STANDARD
DTSTART:20250727T021112
TZOFFSETFROM:+0000
TZOFFSETTO:+0000
END:STANDARD
END:VTIMEZONE
BEGIN:VEVENT
UID:69e97fc0b0a33
DTSTAMP:20260423T021112Z
SUMMARY:K2's Tech Update
LOCATION: 
URL:https://cocpa.org/catalog/events/14270268-k2-rocky-mountain-technology-
 conference-2026-17-12
DTSTART;TZID=America/Denver:20261217T083000
DTEND;TZID=America/Denver:20261217T101000
END:VEVENT
BEGIN:VEVENT
UID:69e97fc0b20c0
DTSTAMP:20260423T021112Z
SUMMARY:K2's Choosing Your CPA Firm Tech Stack
LOCATION: 
URL:https://cocpa.org/catalog/events/14270268-k2-rocky-mountain-technology-
 conference-2026-17-12
DTSTART;TZID=America/Denver:20261217T102500
DTEND;TZID=America/Denver:20261217T120500
END:VEVENT
BEGIN:VEVENT
UID:69e97fc0b2d26
DTSTAMP:20260423T021112Z
SUMMARY:K2's Productivity Life Hacks
LOCATION: 
URL:https://cocpa.org/catalog/events/14270268-k2-rocky-mountain-technology-
 conference-2026-17-12
DTSTART;TZID=America/Denver:20261217T102500
DTEND;TZID=America/Denver:20261217T120500
END:VEVENT
BEGIN:VEVENT
UID:69e97fc0b39a2
DTSTAMP:20260423T021112Z
SUMMARY:K2's Building Future-Ready Businesses
LOCATION: 
URL:https://cocpa.org/catalog/events/14270268-k2-rocky-mountain-technology-
 conference-2026-17-12
DTSTART;TZID=America/Denver:20261217T102500
DTEND;TZID=America/Denver:20261217T120500
END:VEVENT
BEGIN:VEVENT
UID:69e97fc0b45c4
DTSTAMP:20260423T021112Z
SUMMARY:K2's Microsoft Power Tools
LOCATION: 
URL:https://cocpa.org/catalog/events/14270268-k2-rocky-mountain-technology-
 conference-2026-17-12
DTSTART;TZID=America/Denver:20261217T125500
DTEND;TZID=America/Denver:20261217T143500
END:VEVENT
BEGIN:VEVENT
UID:69e97fc0b51c6
DTSTAMP:20260423T021112Z
SUMMARY:K2's AI Accounting And Fraud Detection
LOCATION: 
URL:https://cocpa.org/catalog/events/14270268-k2-rocky-mountain-technology-
 conference-2026-17-12
DTSTART;TZID=America/Denver:20261217T125500
DTEND;TZID=America/Denver:20261217T143500
END:VEVENT
BEGIN:VEVENT
UID:69e97fc0b5dd1
DTSTAMP:20260423T021112Z
SUMMARY:K2's NextGen Document Management\, Workflows\, And Portals
LOCATION: 
URL:https://cocpa.org/catalog/events/14270268-k2-rocky-mountain-technology-
 conference-2026-17-12
DTSTART;TZID=America/Denver:20261217T125500
DTEND;TZID=America/Denver:20261217T143500
END:VEVENT
BEGIN:VEVENT
UID:69e97fc0b69ab
DTSTAMP:20260423T021112Z
SUMMARY:K2's Stop Wasting Time In Excel
LOCATION: 
URL:https://cocpa.org/catalog/events/14270268-k2-rocky-mountain-technology-
 conference-2026-17-12
DTSTART;TZID=America/Denver:20261217T145000
DTEND;TZID=America/Denver:20261217T163000
END:VEVENT
BEGIN:VEVENT
UID:69e97fc0b7593
DTSTAMP:20260423T021112Z
SUMMARY:K2's AI: Real Tools\, Real Results
LOCATION: 
URL:https://cocpa.org/catalog/events/14270268-k2-rocky-mountain-technology-
 conference-2026-17-12
DTSTART;TZID=America/Denver:20261218T083000
DTEND;TZID=America/Denver:20261218T101000
END:VEVENT
BEGIN:VEVENT
UID:69e97fc0b8113
DTSTAMP:20260423T021112Z
SUMMARY:K2's Tech Tuneup Tips
LOCATION: 
URL:https://cocpa.org/catalog/events/14270268-k2-rocky-mountain-technology-
 conference-2026-17-12
DTSTART;TZID=America/Denver:20261218T102000
DTEND;TZID=America/Denver:20261218T120000
END:VEVENT
BEGIN:VEVENT
UID:69e97fc0b8cd5
DTSTAMP:20260423T021112Z
SUMMARY:K2's Microsoft Copilot\, Including Agentic AI
LOCATION: 
URL:https://cocpa.org/catalog/events/14270268-k2-rocky-mountain-technology-
 conference-2026-17-12
DTSTART;TZID=America/Denver:20261218T102000
DTEND;TZID=America/Denver:20261218T120000
END:VEVENT
BEGIN:VEVENT
UID:69e97fc0b9890
DTSTAMP:20260423T021112Z
SUMMARY:K2's Optimizing Your CAS & Advisory Tech Stack
LOCATION: 
URL:https://cocpa.org/catalog/events/14270268-k2-rocky-mountain-technology-
 conference-2026-17-12
DTSTART;TZID=America/Denver:20261218T102000
DTEND;TZID=America/Denver:20261218T120000
END:VEVENT
BEGIN:VEVENT
UID:69e97fc0ba68a
DTSTAMP:20260423T021112Z
SUMMARY:K2's Innovative Strategy And IT Governance
LOCATION: 
URL:https://cocpa.org/catalog/events/14270268-k2-rocky-mountain-technology-
 conference-2026-17-12
DTSTART;TZID=America/Denver:20261218T125000
DTEND;TZID=America/Denver:20261218T134000
END:VEVENT
BEGIN:VEVENT
UID:69e97fc0bb268
DTSTAMP:20260423T021112Z
SUMMARY:K2's Ten Questions To Ask Your IT Team
LOCATION: 
URL:https://cocpa.org/catalog/events/14270268-k2-rocky-mountain-technology-
 conference-2026-17-12
DTSTART;TZID=America/Denver:20261218T125000
DTEND;TZID=America/Denver:20261218T134000
END:VEVENT
BEGIN:VEVENT
UID:69e97fc0bbe74
DTSTAMP:20260423T021112Z
SUMMARY:K2's Technology's Seven (Not Quite) Deadly Sins
LOCATION: 
URL:https://cocpa.org/catalog/events/14270268-k2-rocky-mountain-technology-
 conference-2026-17-12
DTSTART;TZID=America/Denver:20261218T125000
DTEND;TZID=America/Denver:20261218T134000
END:VEVENT
BEGIN:VEVENT
UID:69e97fc0bca3f
DTSTAMP:20260423T021112Z
SUMMARY:K2's Dynamic Arrays In Excel
LOCATION: 
URL:https://cocpa.org/catalog/events/14270268-k2-rocky-mountain-technology-
 conference-2026-17-12
DTSTART;TZID=America/Denver:20261218T135000
DTEND;TZID=America/Denver:20261218T144000
END:VEVENT
BEGIN:VEVENT
UID:69e97fc0bd61f
DTSTAMP:20260423T021112Z
SUMMARY:K2's Automation For Increasing Personal Efficiency And Effectivenes
 s
LOCATION: 
URL:https://cocpa.org/catalog/events/14270268-k2-rocky-mountain-technology-
 conference-2026-17-12
DTSTART;TZID=America/Denver:20261218T135000
DTEND;TZID=America/Denver:20261218T144000
END:VEVENT
BEGIN:VEVENT
UID:69e97fc0be1eb
DTSTAMP:20260423T021112Z
SUMMARY:K2's Getting Control Of Your OneDrive Account
LOCATION: 
URL:https://cocpa.org/catalog/events/14270268-k2-rocky-mountain-technology-
 conference-2026-17-12
DTSTART;TZID=America/Denver:20261218T135000
DTEND;TZID=America/Denver:20261218T144000
END:VEVENT
BEGIN:VEVENT
UID:69e97fc0beded
DTSTAMP:20260423T021112Z
SUMMARY:K2's Ripped From The Headlines: Lessons Learned From The Most Inter
 esting Tech Crimes
LOCATION: 
URL:https://cocpa.org/catalog/events/14270268-k2-rocky-mountain-technology-
 conference-2026-17-12
DTSTART;TZID=America/Denver:20261218T145000
DTEND;TZID=America/Denver:20261218T163000
END:VEVENT
END:VCALENDAR