BEGIN:VCALENDAR
VERSION:2.0
PRODID:spatie/icalendar-generator
NAME:K2 Winter Excel Conference
X-WR-CALNAME:K2 Winter Excel Conference
BEGIN:VTIMEZONE
TZID:America/Denver
BEGIN:STANDARD
DTSTART:20261101T010000
TZOFFSETFROM:-0600
TZOFFSETTO:-0700
END:STANDARD
BEGIN:DAYLIGHT
DTSTART:20270314T010000
TZOFFSETFROM:-0700
TZOFFSETTO:-0600
END:DAYLIGHT
END:VTIMEZONE
BEGIN:VTIMEZONE
TZID:UTC
BEGIN:STANDARD
DTSTART:20250727T022511
TZOFFSETFROM:+0000
TZOFFSETTO:+0000
END:STANDARD
END:VTIMEZONE
BEGIN:VEVENT
UID:69e98307a797c
DTSTAMP:20260423T022511Z
SUMMARY:K2 Winter Excel Conference
LOCATION: 
URL:https://cocpa.org/catalog/events/14270197-k2-winter-excel-conference-20
 26-14-12
DTSTART;TZID=America/Denver:20261214T083000
DTEND;TZID=America/Denver:20261214T160000
END:VEVENT
END:VCALENDAR