BEGIN:VCALENDAR
VERSION:2.0
PRODID:spatie/icalendar-generator
NAME:K2 Automation & Workflow Productivity Conference
X-WR-CALNAME:K2 Automation & Workflow Productivity Conference
BEGIN:VTIMEZONE
TZID:America/Denver
BEGIN:DAYLIGHT
DTSTART:20260308T010000
TZOFFSETFROM:-0700
TZOFFSETTO:-0600
END:DAYLIGHT
BEGIN:STANDARD
DTSTART:20261101T010000
TZOFFSETFROM:-0600
TZOFFSETTO:-0700
END:STANDARD
BEGIN:DAYLIGHT
DTSTART:20270314T010000
TZOFFSETFROM:-0700
TZOFFSETTO:-0600
END:DAYLIGHT
END:VTIMEZONE
BEGIN:VTIMEZONE
TZID:UTC
BEGIN:STANDARD
DTSTART:20250727T022222
TZOFFSETFROM:+0000
TZOFFSETTO:+0000
END:STANDARD
END:VTIMEZONE
BEGIN:VEVENT
UID:69e9825e3132f
DTSTAMP:20260423T022222Z
SUMMARY:K2 Automation & Workflow Productivity Conference
LOCATION: 
URL:https://cocpa.org/catalog/events/14270156-k2-automation-workflow-produc
 tivity-conference-2026-05-10
DTSTART;TZID=America/Denver:20261005T083000
DTEND;TZID=America/Denver:20261005T160000
END:VEVENT
END:VCALENDAR