BEGIN:VCALENDAR
VERSION:2.0
PRODID:spatie/icalendar-generator
NAME:K2 Government Accounting Technology Conference
X-WR-CALNAME:K2 Government Accounting Technology Conference
BEGIN:VTIMEZONE
TZID:America/Denver
BEGIN:DAYLIGHT
DTSTART:20260308T010000
TZOFFSETFROM:-0700
TZOFFSETTO:-0600
END:DAYLIGHT
BEGIN:STANDARD
DTSTART:20261101T010000
TZOFFSETFROM:-0600
TZOFFSETTO:-0700
END:STANDARD
END:VTIMEZONE
BEGIN:VTIMEZONE
TZID:UTC
BEGIN:STANDARD
DTSTART:20250727T022221
TZOFFSETFROM:+0000
TZOFFSETTO:+0000
END:STANDARD
END:VTIMEZONE
BEGIN:VEVENT
UID:69e9825dab9e7
DTSTAMP:20260423T022221Z
SUMMARY:K2 Government Accounting Technology Conference
LOCATION: 
URL:https://cocpa.org/catalog/events/14270056-k2-government-accounting-tech
 nology-conference-2026-24-08
DTSTART;TZID=America/Denver:20260824T083000
DTEND;TZID=America/Denver:20260824T160000
END:VEVENT
END:VCALENDAR