BEGIN:VCALENDAR
VERSION:2.0
PRODID:spatie/icalendar-generator
NAME:Small Firms\, Big Voice: A Roundtable Conversation with the AICPA | Ho
 sted by COCPA
X-WR-CALNAME:Small Firms\, Big Voice: A Roundtable Conversation with the AI
 CPA | Hosted by COCPA
BEGIN:VTIMEZONE
TZID:America/Denver
BEGIN:STANDARD
DTSTART:20251102T010000
TZOFFSETFROM:-0600
TZOFFSETTO:-0700
END:STANDARD
BEGIN:DAYLIGHT
DTSTART:20260308T010000
TZOFFSETFROM:-0700
TZOFFSETTO:-0600
END:DAYLIGHT
BEGIN:STANDARD
DTSTART:20261101T010000
TZOFFSETFROM:-0600
TZOFFSETTO:-0700
END:STANDARD
END:VTIMEZONE
BEGIN:VTIMEZONE
TZID:UTC
BEGIN:STANDARD
DTSTART:20250727T190112
TZOFFSETFROM:+0000
TZOFFSETTO:+0000
END:STANDARD
END:VTIMEZONE
BEGIN:VEVENT
UID:69ea6c78a89c7
DTSTAMP:20260423T190112Z
SUMMARY:Small Firms\, Big Voice: A Roundtable Conversation with the AICPA |
  Hosted by COCPA
URL:https://cocpa.org/catalog/events/14269986-small-firms-big-voice-a-round
 table-conversation-with-the-aicpa-hosted-by-cocpa-2026-17-06
DTSTART;TZID=America/Denver:20260617T120000
DTEND;TZID=America/Denver:20260617T130000
END:VEVENT
END:VCALENDAR