BEGIN:VCALENDAR
VERSION:2.0
PRODID:spatie/icalendar-generator
NAME:K2 Nonprofit Technology Conference
X-WR-CALNAME:K2 Nonprofit Technology Conference
BEGIN:VTIMEZONE
TZID:America/Denver
BEGIN:STANDARD
DTSTART:20251102T010000
TZOFFSETFROM:-0600
TZOFFSETTO:-0700
END:STANDARD
BEGIN:DAYLIGHT
DTSTART:20260308T010000
TZOFFSETFROM:-0700
TZOFFSETTO:-0600
END:DAYLIGHT
BEGIN:STANDARD
DTSTART:20261101T010000
TZOFFSETFROM:-0600
TZOFFSETTO:-0700
END:STANDARD
END:VTIMEZONE
BEGIN:VTIMEZONE
TZID:UTC
BEGIN:STANDARD
DTSTART:20250727T003012
TZOFFSETFROM:+0000
TZOFFSETTO:+0000
END:STANDARD
END:VTIMEZONE
BEGIN:VEVENT
UID:69e968146a276
DTSTAMP:20260423T003012Z
SUMMARY:K2 Nonprofit Technology Conference
LOCATION: 
URL:https://cocpa.org/catalog/events/14268113-k2-nonprofit-technology-confe
 rence-2026-15-06
DTSTART;TZID=America/Denver:20260615T083000
DTEND;TZID=America/Denver:20260615T160000
END:VEVENT
END:VCALENDAR