BEGIN:VCALENDAR
VERSION:2.0
PRODID:spatie/icalendar-generator
NAME:Summer Excel Conference
X-WR-CALNAME:Summer Excel Conference
BEGIN:VTIMEZONE
TZID:America/Denver
BEGIN:STANDARD
DTSTART:20251102T010000
TZOFFSETFROM:-0600
TZOFFSETTO:-0700
END:STANDARD
BEGIN:DAYLIGHT
DTSTART:20260308T010000
TZOFFSETFROM:-0700
TZOFFSETTO:-0600
END:DAYLIGHT
BEGIN:STANDARD
DTSTART:20261101T010000
TZOFFSETFROM:-0600
TZOFFSETTO:-0700
END:STANDARD
END:VTIMEZONE
BEGIN:VTIMEZONE
TZID:UTC
BEGIN:STANDARD
DTSTART:20250725T043723
TZOFFSETFROM:+0000
TZOFFSETTO:+0000
END:STANDARD
END:VTIMEZONE
BEGIN:VEVENT
UID:69e6ff037cb54
DTSTAMP:20260421T043723Z
SUMMARY:Summer Excel Conference
LOCATION: 
URL:https://cocpa.org/catalog/events/14267611-summer-excel-conference-2026-
 01-06
DTSTART;TZID=America/Denver:20260601T083000
DTEND;TZID=America/Denver:20260601T160000
END:VEVENT
END:VCALENDAR