BEGIN:VCALENDAR
VERSION:2.0
PRODID:spatie/icalendar-generator
NAME:Summer Multi-State Technology Conference
X-WR-CALNAME:Summer Multi-State Technology Conference
BEGIN:VTIMEZONE
TZID:America/Denver
BEGIN:STANDARD
DTSTART:20251102T010000
TZOFFSETFROM:-0600
TZOFFSETTO:-0700
END:STANDARD
BEGIN:DAYLIGHT
DTSTART:20260308T010000
TZOFFSETFROM:-0700
TZOFFSETTO:-0600
END:DAYLIGHT
BEGIN:STANDARD
DTSTART:20261101T010000
TZOFFSETFROM:-0600
TZOFFSETTO:-0700
END:STANDARD
END:VTIMEZONE
BEGIN:VTIMEZONE
TZID:UTC
BEGIN:STANDARD
DTSTART:20250725T045516
TZOFFSETFROM:+0000
TZOFFSETTO:+0000
END:STANDARD
END:VTIMEZONE
BEGIN:VEVENT
UID:69e7033481dfb
DTSTAMP:20260421T045516Z
SUMMARY:K2’s Tech Update
LOCATION: 
URL:https://cocpa.org/catalog/events/14263328-summer-multi-state-technology
 -conference-2026-21-05
DTSTART;TZID=America/Denver:20260521T070000
DTEND;TZID=America/Denver:20260521T084000
END:VEVENT
BEGIN:VEVENT
UID:69e7033482f54
DTSTAMP:20260421T045516Z
SUMMARY:K2’s Choosing Your CPA Firm Tech Stack
LOCATION: 
URL:https://cocpa.org/catalog/events/14263328-summer-multi-state-technology
 -conference-2026-21-05
DTSTART;TZID=America/Denver:20260521T085500
DTEND;TZID=America/Denver:20260521T103500
END:VEVENT
BEGIN:VEVENT
UID:69e7033483b88
DTSTAMP:20260421T045516Z
SUMMARY:K2’s Productivity Life Hacks
LOCATION: 
URL:https://cocpa.org/catalog/events/14263328-summer-multi-state-technology
 -conference-2026-21-05
DTSTART;TZID=America/Denver:20260521T085500
DTEND;TZID=America/Denver:20260521T103500
END:VEVENT
BEGIN:VEVENT
UID:69e7033484876
DTSTAMP:20260421T045516Z
SUMMARY:K2’s Building Future-Ready Businesses
LOCATION: 
URL:https://cocpa.org/catalog/events/14263328-summer-multi-state-technology
 -conference-2026-21-05
DTSTART;TZID=America/Denver:20260521T085500
DTEND;TZID=America/Denver:20260521T103500
END:VEVENT
BEGIN:VEVENT
UID:69e703348551f
DTSTAMP:20260421T045516Z
SUMMARY:K2’s NextGen Document Management\, Workflows\, And Portals
LOCATION: 
URL:https://cocpa.org/catalog/events/14263328-summer-multi-state-technology
 -conference-2026-21-05
DTSTART;TZID=America/Denver:20260521T113000
DTEND;TZID=America/Denver:20260521T131000
END:VEVENT
BEGIN:VEVENT
UID:69e70334861cb
DTSTAMP:20260421T045516Z
SUMMARY:K2’s AI Accounting And Fraud Detection
LOCATION: 
URL:https://cocpa.org/catalog/events/14263328-summer-multi-state-technology
 -conference-2026-21-05
DTSTART;TZID=America/Denver:20260521T113000
DTEND;TZID=America/Denver:20260521T131000
END:VEVENT
BEGIN:VEVENT
UID:69e7033486ec3
DTSTAMP:20260421T045516Z
SUMMARY:K2’s Stop Wasting Time In Excel
LOCATION: 
URL:https://cocpa.org/catalog/events/14263328-summer-multi-state-technology
 -conference-2026-21-05
DTSTART;TZID=America/Denver:20260521T132500
DTEND;TZID=America/Denver:20260521T150500
END:VEVENT
BEGIN:VEVENT
UID:69e7033487b48
DTSTAMP:20260421T045516Z
SUMMARY:K2’s AI: Real Tools\, Real Results
LOCATION: 
URL:https://cocpa.org/catalog/events/14263328-summer-multi-state-technology
 -conference-2026-21-05
DTSTART;TZID=America/Denver:20260522T070000
DTEND;TZID=America/Denver:20260522T084000
END:VEVENT
BEGIN:VEVENT
UID:69e703348884d
DTSTAMP:20260421T045516Z
SUMMARY:K2’s Optimizing Your CAS & Advisory Tech Stack
LOCATION: 
URL:https://cocpa.org/catalog/events/14263328-summer-multi-state-technology
 -conference-2026-21-05
DTSTART;TZID=America/Denver:20260522T085500
DTEND;TZID=America/Denver:20260522T103500
END:VEVENT
BEGIN:VEVENT
UID:69e7033489511
DTSTAMP:20260421T045516Z
SUMMARY:K2’s Microsoft Copilot\, Including Agentic AI
LOCATION: 
URL:https://cocpa.org/catalog/events/14263328-summer-multi-state-technology
 -conference-2026-21-05
DTSTART;TZID=America/Denver:20260522T085500
DTEND;TZID=America/Denver:20260522T103500
END:VEVENT
BEGIN:VEVENT
UID:69e703348a1b4
DTSTAMP:20260421T045516Z
SUMMARY:K2’s Tech Tuneup Tips
LOCATION: 
URL:https://cocpa.org/catalog/events/14263328-summer-multi-state-technology
 -conference-2026-21-05
DTSTART;TZID=America/Denver:20260522T085500
DTEND;TZID=America/Denver:20260522T103500
END:VEVENT
BEGIN:VEVENT
UID:69e703348adc3
DTSTAMP:20260421T045516Z
SUMMARY:K2’s Ten Questions To Ask Your IT Team
LOCATION: 
URL:https://cocpa.org/catalog/events/14263328-summer-multi-state-technology
 -conference-2026-21-05
DTSTART;TZID=America/Denver:20260522T113000
DTEND;TZID=America/Denver:20260522T122000
END:VEVENT
BEGIN:VEVENT
UID:69e703348b9eb
DTSTAMP:20260421T045516Z
SUMMARY:K2’s Innovative Strategy And IT Governance
LOCATION: 
URL:https://cocpa.org/catalog/events/14263328-summer-multi-state-technology
 -conference-2026-21-05
DTSTART;TZID=America/Denver:20260522T113000
DTEND;TZID=America/Denver:20260522T122000
END:VEVENT
BEGIN:VEVENT
UID:69e703348c5c2
DTSTAMP:20260421T045516Z
SUMMARY:K2’s Technology’s Seven (Not Quite) Deadly Sins
LOCATION: 
URL:https://cocpa.org/catalog/events/14263328-summer-multi-state-technology
 -conference-2026-21-05
DTSTART;TZID=America/Denver:20260522T113000
DTEND;TZID=America/Denver:20260522T122000
END:VEVENT
BEGIN:VEVENT
UID:69e703348d195
DTSTAMP:20260421T045516Z
SUMMARY:K2’s Dynamic Arrays In Excel
LOCATION: 
URL:https://cocpa.org/catalog/events/14263328-summer-multi-state-technology
 -conference-2026-21-05
DTSTART;TZID=America/Denver:20260522T123000
DTEND;TZID=America/Denver:20260522T132000
END:VEVENT
BEGIN:VEVENT
UID:69e703348de4f
DTSTAMP:20260421T045516Z
SUMMARY:K2’s Getting Control Of Your OneDrive Account
LOCATION: 
URL:https://cocpa.org/catalog/events/14263328-summer-multi-state-technology
 -conference-2026-21-05
DTSTART;TZID=America/Denver:20260522T123000
DTEND;TZID=America/Denver:20260522T132000
END:VEVENT
BEGIN:VEVENT
UID:69e703348eabf
DTSTAMP:20260421T045516Z
SUMMARY:K2’s Ripped From The Headlines: Lessons Learned From The Most Int
 eresting Tech Crimes
LOCATION: 
URL:https://cocpa.org/catalog/events/14263328-summer-multi-state-technology
 -conference-2026-21-05
DTSTART;TZID=America/Denver:20260522T133500
DTEND;TZID=America/Denver:20260522T151500
END:VEVENT
BEGIN:VEVENT
UID:69e703348f719
DTSTAMP:20260421T045516Z
SUMMARY:K2’s Microsoft Power Tools
LOCATION: 
URL:https://cocpa.org/catalog/events/14263328-summer-multi-state-technology
 -conference-2026-21-05
DTSTART;TZID=America/Denver:20260521T113000
DTEND;TZID=America/Denver:20260521T131000
END:VEVENT
BEGIN:VEVENT
UID:69e7033490356
DTSTAMP:20260421T045516Z
SUMMARY:K2's Automation For Increasing Personal Efficiency And Effectivenes
 s
LOCATION: 
URL:https://cocpa.org/catalog/events/14263328-summer-multi-state-technology
 -conference-2026-21-05
DTSTART;TZID=America/Denver:20260522T123000
DTEND;TZID=America/Denver:20260522T132000
END:VEVENT
END:VCALENDAR