BEGIN:VCALENDAR
VERSION:2.0
PRODID:spatie/icalendar-generator
NAME:Spring 2026 Member Appreciation Day - CPE on the House (FREE)
X-WR-CALNAME:Spring 2026 Member Appreciation Day - CPE on the House (FREE)
BEGIN:VTIMEZONE
TZID:America/Denver
BEGIN:STANDARD
DTSTART:20251102T010000
TZOFFSETFROM:-0600
TZOFFSETTO:-0700
END:STANDARD
BEGIN:DAYLIGHT
DTSTART:20260308T010000
TZOFFSETFROM:-0700
TZOFFSETTO:-0600
END:DAYLIGHT
BEGIN:STANDARD
DTSTART:20261101T010000
TZOFFSETFROM:-0600
TZOFFSETTO:-0700
END:STANDARD
END:VTIMEZONE
BEGIN:VTIMEZONE
TZID:UTC
BEGIN:STANDARD
DTSTART:20250727T133821
TZOFFSETFROM:+0000
TZOFFSETTO:+0000
END:STANDARD
END:VTIMEZONE
BEGIN:VEVENT
UID:69ea20cd93edc
DTSTAMP:20260423T133821Z
SUMMARY:McGuire Sponsel: 	What Did Tax Season Reveal? Legislative Updates\,
  Timing Decisions\, and Planning Opportunities Under OBBBA for 2026
LOCATION: 
URL:https://cocpa.org/catalog/events/14214175-spring-2026-member-appreciati
 on-day-cpe-on-the-house-free-2026-14-05
DTSTART;TZID=America/Denver:20260514T083000
DTEND;TZID=America/Denver:20260514T092000
END:VEVENT
BEGIN:VEVENT
UID:69ea20cd94fa8
DTSTAMP:20260423T133821Z
SUMMARY:InfinitiHR:	Understanding Your HR Options: What HR Platform Works B
 est for My Clients?
LOCATION: 
URL:https://cocpa.org/catalog/events/14214175-spring-2026-member-appreciati
 on-day-cpe-on-the-house-free-2026-14-05
DTSTART;TZID=America/Denver:20260514T093000
DTEND;TZID=America/Denver:20260514T102000
END:VEVENT
BEGIN:VEVENT
UID:69ea20cd95bda
DTSTAMP:20260423T133821Z
SUMMARY:Integrated Partners: Inherited IRA Planning for CPAs: Navigating SE
 CURE Act Rules\, Common Pitfalls\, and Client Advisory Strategies
LOCATION: 
URL:https://cocpa.org/catalog/events/14214175-spring-2026-member-appreciati
 on-day-cpe-on-the-house-free-2026-14-05
DTSTART;TZID=America/Denver:20260514T103000
DTEND;TZID=America/Denver:20260514T112000
END:VEVENT
BEGIN:VEVENT
UID:69ea20cd96823
DTSTAMP:20260423T133821Z
SUMMARY:Journey Payroll & HR: Payroll Partnerships That Actually Work for A
 ccounting Firms (and the Ones That Fail): Designing Partnerships That Prot
 ect Client Relationships
LOCATION: 
URL:https://cocpa.org/catalog/events/14214175-spring-2026-member-appreciati
 on-day-cpe-on-the-house-free-2026-14-05
DTSTART;TZID=America/Denver:20260514T113000
DTEND;TZID=America/Denver:20260514T122000
END:VEVENT
BEGIN:VEVENT
UID:69ea20cd9746a
DTSTAMP:20260423T133821Z
SUMMARY:Xero: Pick a Lane. Be More Than a Transaction.
LOCATION: 
URL:https://cocpa.org/catalog/events/14214175-spring-2026-member-appreciati
 on-day-cpe-on-the-house-free-2026-14-05
DTSTART;TZID=America/Denver:20260514T130000
DTEND;TZID=America/Denver:20260514T135500
END:VEVENT
BEGIN:VEVENT
UID:69ea20cd980b1
DTSTAMP:20260423T133821Z
SUMMARY:Your Part-Time Controller: So\, Your Accountant Is Retiring — Now
  What? Succession Planning for Lean Finance Teams
LOCATION: 
URL:https://cocpa.org/catalog/events/14214175-spring-2026-member-appreciati
 on-day-cpe-on-the-house-free-2026-14-05
DTSTART;TZID=America/Denver:20260514T140000
DTEND;TZID=America/Denver:20260514T145500
END:VEVENT
BEGIN:VEVENT
UID:69ea20cd98cc7
DTSTAMP:20260423T133821Z
SUMMARY:TaxDome: Delivering and Filing Form 1040 Returns: Compliance\, Auth
 orization\, and Secure Client Communication & Demo
LOCATION: 
URL:https://cocpa.org/catalog/events/14214175-spring-2026-member-appreciati
 on-day-cpe-on-the-house-free-2026-14-05
DTSTART;TZID=America/Denver:20260514T150000
DTEND;TZID=America/Denver:20260514T162000
END:VEVENT
BEGIN:VEVENT
UID:69ea20cd998c5
DTSTAMP:20260423T133821Z
SUMMARY:Juno:	Practical AI in tax preparation
LOCATION: 
URL:https://cocpa.org/catalog/events/14214175-spring-2026-member-appreciati
 on-day-cpe-on-the-house-free-2026-14-05
DTSTART;TZID=America/Denver:20260515T083000
DTEND;TZID=America/Denver:20260515T092000
END:VEVENT
BEGIN:VEVENT
UID:69ea20cd9a4e4
DTSTAMP:20260423T133821Z
SUMMARY:Independent Accountants Alliance: AI in Your Practice: Real-World U
 ses of Claude Cowork
LOCATION: 
URL:https://cocpa.org/catalog/events/14214175-spring-2026-member-appreciati
 on-day-cpe-on-the-house-free-2026-14-05
DTSTART;TZID=America/Denver:20260515T093000
DTEND;TZID=America/Denver:20260515T102000
END:VEVENT
BEGIN:VEVENT
UID:69ea20cd9b14c
DTSTAMP:20260423T133821Z
SUMMARY:Coaching Collaborative: Improving Client and Team Outcomes with Coa
 ching
LOCATION: 
URL:https://cocpa.org/catalog/events/14214175-spring-2026-member-appreciati
 on-day-cpe-on-the-house-free-2026-14-05
DTSTART;TZID=America/Denver:20260515T103000
DTEND;TZID=America/Denver:20260515T112000
END:VEVENT
END:VCALENDAR