BEGIN:VCALENDAR
VERSION:2.0
PRODID:spatie/icalendar-generator
NAME:Member Mix and Mingle
X-WR-CALNAME:Member Mix and Mingle
BEGIN:VTIMEZONE
TZID:America/Denver
BEGIN:STANDARD
DTSTART:20251102T010000
TZOFFSETFROM:-0600
TZOFFSETTO:-0700
END:STANDARD
BEGIN:DAYLIGHT
DTSTART:20260308T010000
TZOFFSETFROM:-0700
TZOFFSETTO:-0600
END:DAYLIGHT
END:VTIMEZONE
BEGIN:VTIMEZONE
TZID:UTC
BEGIN:STANDARD
DTSTART:20250725T185240
TZOFFSETFROM:+0000
TZOFFSETTO:+0000
END:STANDARD
END:VTIMEZONE
BEGIN:VEVENT
UID:69e7c7788be81
DTSTAMP:20260421T185240Z
SUMMARY:Member Mix and Mingle
LOCATION:2246 Larimer St\, Denver\, Denver County\, Colorado 80205
URL:https://cocpa.org/catalog/events/14184493-member-mix-and-mingle-2026-26
 -02
DTSTART;TZID=America/Denver:20260226T160000
DTEND;TZID=America/Denver:20260226T180000
END:VEVENT
END:VCALENDAR