BEGIN:VCALENDAR
VERSION:2.0
PRODID:spatie/icalendar-generator
NAME:COCPA Virtual Mock CPA Exam – November\, 2026
X-WR-CALNAME:COCPA Virtual Mock CPA Exam – November\, 2026
BEGIN:VTIMEZONE
TZID:America/Denver
BEGIN:DAYLIGHT
DTSTART:20260308T010000
TZOFFSETFROM:-0700
TZOFFSETTO:-0600
END:DAYLIGHT
BEGIN:STANDARD
DTSTART:20261101T010000
TZOFFSETFROM:-0600
TZOFFSETTO:-0700
END:STANDARD
BEGIN:DAYLIGHT
DTSTART:20270314T010000
TZOFFSETFROM:-0700
TZOFFSETTO:-0600
END:DAYLIGHT
END:VTIMEZONE
BEGIN:VTIMEZONE
TZID:UTC
BEGIN:STANDARD
DTSTART:20250723T123808
TZOFFSETFROM:+0000
TZOFFSETTO:+0000
END:STANDARD
END:VTIMEZONE
BEGIN:VEVENT
UID:69e4ccb02df35
DTSTAMP:20260419T123808Z
SUMMARY:COCPA Virtual Mock CPA Exam – November\, 2026
LOCATION: 
URL:https://cocpa.org/catalog/events/14181187-cocpa-virtual-mock-cpa-exam-n
 ovember-2026-2026-06-11
DTSTART;TZID=America/Denver:20261106T130000
DTEND;TZID=America/Denver:20261106T180000
END:VEVENT
END:VCALENDAR