BEGIN:VCALENDAR
VERSION:2.0
PRODID:spatie/icalendar-generator
NAME:COCPA Virtual Mock CPA Exam – March\, 2026
X-WR-CALNAME:COCPA Virtual Mock CPA Exam – March\, 2026
BEGIN:VTIMEZONE
TZID:America/Denver
BEGIN:STANDARD
DTSTART:20251102T010000
TZOFFSETFROM:-0600
TZOFFSETTO:-0700
END:STANDARD
BEGIN:DAYLIGHT
DTSTART:20260308T010000
TZOFFSETFROM:-0700
TZOFFSETTO:-0600
END:DAYLIGHT
END:VTIMEZONE
BEGIN:VTIMEZONE
TZID:UTC
BEGIN:STANDARD
DTSTART:20250723T125248
TZOFFSETFROM:+0000
TZOFFSETTO:+0000
END:STANDARD
END:VTIMEZONE
BEGIN:VEVENT
UID:69e4d020825ae
DTSTAMP:20260419T125248Z
SUMMARY:COCPA Virtual Mock CPA Exam – March\, 2026
LOCATION: 
URL:https://cocpa.org/catalog/events/14181180-cocpa-virtual-mock-cpa-exam-m
 arch-2026-2026-12-03
DTSTART;TZID=America/Denver:20260312T130000
DTEND;TZID=America/Denver:20260312T180000
END:VEVENT
END:VCALENDAR