BEGIN:VCALENDAR
VERSION:2.0
PRODID:spatie/icalendar-generator
NAME:March 2026 Wednesday 1-Hour Tax Study Group (Online Only)
X-WR-CALNAME:March 2026 Wednesday 1-Hour Tax Study Group (Online Only)
BEGIN:VTIMEZONE
TZID:America/Denver
BEGIN:STANDARD
DTSTART:20251102T010000
TZOFFSETFROM:-0600
TZOFFSETTO:-0700
END:STANDARD
BEGIN:DAYLIGHT
DTSTART:20260308T010000
TZOFFSETFROM:-0700
TZOFFSETTO:-0600
END:DAYLIGHT
END:VTIMEZONE
BEGIN:VTIMEZONE
TZID:UTC
BEGIN:STANDARD
DTSTART:20250723T153808
TZOFFSETFROM:+0000
TZOFFSETTO:+0000
END:STANDARD
END:VTIMEZONE
BEGIN:VEVENT
UID:69e4f6e0d470a
DTSTAMP:20260419T153808Z
SUMMARY:March 2026 Wednesday 1-Hour Tax Study Group (Online Only)
LOCATION: 
URL:https://cocpa.org/catalog/events/14073061-march-2026-wednesday-1-hour-t
 ax-study-group-online-only-2026-04-03
DTSTART;TZID=America/Denver:20260304T120000
DTEND;TZID=America/Denver:20260304T130000
END:VEVENT
END:VCALENDAR