BEGIN:VCALENDAR
VERSION:2.0
PRODID:spatie/icalendar-generator
NAME:COCPA Hot Topics: One Big\, Beautiful Bill Think-Tank - Individual and
  Estate Tax
X-WR-CALNAME:COCPA Hot Topics: One Big\, Beautiful Bill Think-Tank - Indivi
 dual and Estate Tax
BEGIN:VTIMEZONE
TZID:America/Denver
BEGIN:DAYLIGHT
DTSTART:20250309T010000
TZOFFSETFROM:-0700
TZOFFSETTO:-0600
END:DAYLIGHT
BEGIN:STANDARD
DTSTART:20251102T010000
TZOFFSETFROM:-0600
TZOFFSETTO:-0700
END:STANDARD
END:VTIMEZONE
BEGIN:VTIMEZONE
TZID:UTC
BEGIN:STANDARD
DTSTART:20250727T180829
TZOFFSETFROM:+0000
TZOFFSETTO:+0000
END:STANDARD
END:VTIMEZONE
BEGIN:VEVENT
UID:69ea601d8955d
DTSTAMP:20260423T180829Z
SUMMARY:COCPA Hot Topics: One Big\, Beautiful Bill Think-Tank - Individual 
 and Estate Tax
LOCATION: 
URL:https://cocpa.org/catalog/events/13978969-cocpa-hot-topics-one-big-beau
 tiful-bill-think-tank-individual-and-estate-tax-2025-20-08
DTSTART;TZID=America/Denver:20250820T120000
DTEND;TZID=America/Denver:20250820T133000
END:VEVENT
END:VCALENDAR