BEGIN:VCALENDAR
VERSION:2.0
PRODID:spatie/icalendar-generator
NAME:Webinar (CA): 2025 Business Tax Credits 🗓
X-WR-CALNAME:Webinar (CA): 2025 Business Tax Credits 🗓
BEGIN:VTIMEZONE
TZID:America/Denver
BEGIN:STANDARD
DTSTART:20251102T010000
TZOFFSETFROM:-0600
TZOFFSETTO:-0700
END:STANDARD
BEGIN:DAYLIGHT
DTSTART:20260308T010000
TZOFFSETFROM:-0700
TZOFFSETTO:-0600
END:DAYLIGHT
END:VTIMEZONE
BEGIN:VTIMEZONE
TZID:UTC
BEGIN:STANDARD
DTSTART:20250727T100903
TZOFFSETFROM:+0000
TZOFFSETTO:+0000
END:STANDARD
END:VTIMEZONE
BEGIN:VEVENT
UID:69e9efbf6571f
DTSTAMP:20260423T100903Z
SUMMARY:Webinar (CA): 2025 Business Tax Credits 🗓
URL:https://cocpa.org/catalog/events/13827571-webinar-ca-2025-business-tax-
 credits-2026-23-03
DTSTART;TZID=America/Denver:20260323T110000
DTEND;TZID=America/Denver:20260323T120000
END:VEVENT
END:VCALENDAR