BEGIN:VCALENDAR
VERSION:2.0
PRODID:spatie/icalendar-generator
NAME:Webinar (CA): International Tax Lunch Series February 2026 🗓
X-WR-CALNAME:Webinar (CA): International Tax Lunch Series February 2026 
 🗓
BEGIN:VTIMEZONE
TZID:America/Denver
BEGIN:STANDARD
DTSTART:20251102T010000
TZOFFSETFROM:-0600
TZOFFSETTO:-0700
END:STANDARD
BEGIN:DAYLIGHT
DTSTART:20260308T010000
TZOFFSETFROM:-0700
TZOFFSETTO:-0600
END:DAYLIGHT
END:VTIMEZONE
BEGIN:VTIMEZONE
TZID:UTC
BEGIN:STANDARD
DTSTART:20250727T101005
TZOFFSETFROM:+0000
TZOFFSETTO:+0000
END:STANDARD
END:VTIMEZONE
BEGIN:VEVENT
UID:69e9effd11f1a
DTSTAMP:20260423T101005Z
SUMMARY:Webinar (CA): International Tax Lunch Series February 2026 🗓
URL:https://cocpa.org/catalog/events/13827499-webinar-ca-international-tax-
 lunch-series-february-2026-2026-27-02
DTSTART;TZID=America/Denver:20260227T100000
DTEND;TZID=America/Denver:20260227T110000
END:VEVENT
END:VCALENDAR