BEGIN:VCALENDAR
VERSION:2.0
PRODID:spatie/icalendar-generator
NAME:Webinar (CA): Living Trust Administration Workshop 25-26 🗓
X-WR-CALNAME:Webinar (CA): Living Trust Administration Workshop 25-26 🗓
BEGIN:VTIMEZONE
TZID:America/Denver
BEGIN:STANDARD
DTSTART:20251102T010000
TZOFFSETFROM:-0600
TZOFFSETTO:-0700
END:STANDARD
BEGIN:DAYLIGHT
DTSTART:20260308T010000
TZOFFSETFROM:-0700
TZOFFSETTO:-0600
END:DAYLIGHT
END:VTIMEZONE
BEGIN:VTIMEZONE
TZID:UTC
BEGIN:STANDARD
DTSTART:20250727T133934
TZOFFSETFROM:+0000
TZOFFSETTO:+0000
END:STANDARD
END:VTIMEZONE
BEGIN:VEVENT
UID:69ea2116e4742
DTSTAMP:20260423T133934Z
SUMMARY:Webinar (CA): Living Trust Administration Workshop 25-26 🗓
URL:https://cocpa.org/catalog/events/13827470-webinar-ca-living-trust-admin
 istration-workshop-25-26-2026-24-02
DTSTART;TZID=America/Denver:20260224T070000
DTEND;TZID=America/Denver:20260224T143000
END:VEVENT
END:VCALENDAR