BEGIN:VCALENDAR
VERSION:2.0
PRODID:spatie/icalendar-generator
NAME:Webinar (CA): Fraud?How to Find\, How to Prevent 25-26 🗓
X-WR-CALNAME:Webinar (CA): Fraud?How to Find\, How to Prevent 25-26 🗓
BEGIN:VTIMEZONE
TZID:America/Denver
BEGIN:STANDARD
DTSTART:20251102T010000
TZOFFSETFROM:-0600
TZOFFSETTO:-0700
END:STANDARD
BEGIN:DAYLIGHT
DTSTART:20260308T010000
TZOFFSETFROM:-0700
TZOFFSETTO:-0600
END:DAYLIGHT
END:VTIMEZONE
BEGIN:VTIMEZONE
TZID:UTC
BEGIN:STANDARD
DTSTART:20250728T010225
TZOFFSETFROM:+0000
TZOFFSETTO:+0000
END:STANDARD
END:VTIMEZONE
BEGIN:VEVENT
UID:69eac121bd769
DTSTAMP:20260424T010225Z
SUMMARY:Webinar (CA): Fraud?How to Find\, How to Prevent 25-26 🗓
URL:https://cocpa.org/catalog/events/13827453-webinar-ca-fraudhow-to-find-h
 ow-to-prevent-25-26-2026-20-02
DTSTART;TZID=America/Denver:20260220T090000
DTEND;TZID=America/Denver:20260220T123000
END:VEVENT
END:VCALENDAR