BEGIN:VCALENDAR
VERSION:2.0
PRODID:spatie/icalendar-generator
NAME:Webinar (CA): Fiduciary Accounting Part 3: Special Accounting Election
 s & Distributions 25-26 🗓
X-WR-CALNAME:Webinar (CA): Fiduciary Accounting Part 3: Special Accounting 
 Elections & Distributions 25-26 🗓
BEGIN:VTIMEZONE
TZID:America/Denver
BEGIN:STANDARD
DTSTART:20251102T010000
TZOFFSETFROM:-0600
TZOFFSETTO:-0700
END:STANDARD
BEGIN:DAYLIGHT
DTSTART:20260308T010000
TZOFFSETFROM:-0700
TZOFFSETTO:-0600
END:DAYLIGHT
END:VTIMEZONE
BEGIN:VTIMEZONE
TZID:UTC
BEGIN:STANDARD
DTSTART:20250727T084646
TZOFFSETFROM:+0000
TZOFFSETTO:+0000
END:STANDARD
END:VTIMEZONE
BEGIN:VEVENT
UID:69e9dc76094b2
DTSTAMP:20260423T084646Z
SUMMARY:Webinar (CA): Fiduciary Accounting Part 3: Special Accounting Elect
 ions & Distributions 25-26 🗓
URL:https://cocpa.org/catalog/events/13827446-webinar-ca-fiduciary-accounti
 ng-part-3-special-accounting-elections-distributions-25-26-2026-19-02
DTSTART;TZID=America/Denver:20260219T090000
DTEND;TZID=America/Denver:20260219T110000
END:VEVENT
END:VCALENDAR