BEGIN:VCALENDAR
VERSION:2.0
PRODID:spatie/icalendar-generator
NAME:Webinar (CA): Fiduciary Accounting Part 1: Fiduciary Duty Basics & Aut
 hority 25-26 🗓
X-WR-CALNAME:Webinar (CA): Fiduciary Accounting Part 1: Fiduciary Duty Basi
 cs & Authority 25-26 🗓
BEGIN:VTIMEZONE
TZID:America/Denver
BEGIN:STANDARD
DTSTART:20251102T010000
TZOFFSETFROM:-0600
TZOFFSETTO:-0700
END:STANDARD
BEGIN:DAYLIGHT
DTSTART:20260308T010000
TZOFFSETFROM:-0700
TZOFFSETTO:-0600
END:DAYLIGHT
END:VTIMEZONE
BEGIN:VTIMEZONE
TZID:UTC
BEGIN:STANDARD
DTSTART:20250727T212328
TZOFFSETFROM:+0000
TZOFFSETTO:+0000
END:STANDARD
END:VTIMEZONE
BEGIN:VEVENT
UID:69ea8dd040e17
DTSTAMP:20260423T212328Z
SUMMARY:Webinar (CA): Fiduciary Accounting Part 1: Fiduciary Duty Basics & 
 Authority 25-26 🗓
URL:https://cocpa.org/catalog/events/13827444-webinar-ca-fiduciary-accounti
 ng-part-1-fiduciary-duty-basics-authority-25-26-2026-17-02
DTSTART;TZID=America/Denver:20260217T090000
DTEND;TZID=America/Denver:20260217T110000
END:VEVENT
END:VCALENDAR