BEGIN:VCALENDAR
VERSION:2.0
PRODID:spatie/icalendar-generator
NAME:Webinar (CPA Crossings): Basic Individual Taxation Course🗓️
X-WR-CALNAME:Webinar (CPA Crossings): Basic Individual Taxation Course🗓
 ️
BEGIN:VTIMEZONE
TZID:America/Denver
BEGIN:STANDARD
DTSTART:20251102T010000
TZOFFSETFROM:-0600
TZOFFSETTO:-0700
END:STANDARD
BEGIN:DAYLIGHT
DTSTART:20260308T010000
TZOFFSETFROM:-0700
TZOFFSETTO:-0600
END:DAYLIGHT
END:VTIMEZONE
BEGIN:VTIMEZONE
TZID:UTC
BEGIN:STANDARD
DTSTART:20250727T212404
TZOFFSETFROM:+0000
TZOFFSETTO:+0000
END:STANDARD
END:VTIMEZONE
BEGIN:VEVENT
UID:69ea8df4b00fc
DTSTAMP:20260423T212404Z
SUMMARY:Webinar (CPA Crossings): Basic Individual Taxation Course🗓️
URL:https://cocpa.org/catalog/events/13707979-webinar-cpa-crossings-basic-i
 ndividual-taxation-course-2026-10-02
DTSTART;TZID=America/Denver:20260210T070000
DTEND;TZID=America/Denver:20260210T090000
END:VEVENT
END:VCALENDAR