BEGIN:VCALENDAR
VERSION:2.0
PRODID:spatie/icalendar-generator
NAME:Webinar (CPA Crossings): Forgotten Managerial Accounting Tools for CPA
 s🗓️
X-WR-CALNAME:Webinar (CPA Crossings): Forgotten Managerial Accounting Tools
  for CPAs🗓️
BEGIN:VTIMEZONE
TZID:America/Denver
BEGIN:STANDARD
DTSTART:20251102T010000
TZOFFSETFROM:-0600
TZOFFSETTO:-0700
END:STANDARD
BEGIN:DAYLIGHT
DTSTART:20260308T010000
TZOFFSETFROM:-0700
TZOFFSETTO:-0600
END:DAYLIGHT
END:VTIMEZONE
BEGIN:VTIMEZONE
TZID:UTC
BEGIN:STANDARD
DTSTART:20250727T180930
TZOFFSETFROM:+0000
TZOFFSETTO:+0000
END:STANDARD
END:VTIMEZONE
BEGIN:VEVENT
UID:69ea605ad52d9
DTSTAMP:20260423T180930Z
SUMMARY:Webinar (CPA Crossings): Forgotten Managerial Accounting Tools for 
 CPAs🗓️
URL:https://cocpa.org/catalog/events/13707937-webinar-cpa-crossings-forgott
 en-managerial-accounting-tools-for-cpas-2026-09-02
DTSTART;TZID=America/Denver:20260209T123000
DTEND;TZID=America/Denver:20260209T143000
END:VEVENT
END:VCALENDAR