BEGIN:VCALENDAR
VERSION:2.0
PRODID:spatie/icalendar-generator
NAME:Webinar (CPA Crossings): Determining Reasonable Compensation for Owner
  Employees🗓️
X-WR-CALNAME:Webinar (CPA Crossings): Determining Reasonable Compensation f
 or Owner Employees🗓️
BEGIN:VTIMEZONE
TZID:America/Denver
BEGIN:STANDARD
DTSTART:20251102T010000
TZOFFSETFROM:-0600
TZOFFSETTO:-0700
END:STANDARD
BEGIN:DAYLIGHT
DTSTART:20260308T010000
TZOFFSETFROM:-0700
TZOFFSETTO:-0600
END:DAYLIGHT
END:VTIMEZONE
BEGIN:VTIMEZONE
TZID:UTC
BEGIN:STANDARD
DTSTART:20250727T145405
TZOFFSETFROM:+0000
TZOFFSETTO:+0000
END:STANDARD
END:VTIMEZONE
BEGIN:VEVENT
UID:69ea328d1289a
DTSTAMP:20260423T145405Z
SUMMARY:Webinar (CPA Crossings): Determining Reasonable Compensation for Ow
 ner Employees🗓️
URL:https://cocpa.org/catalog/events/13707915-webinar-cpa-crossings-determi
 ning-reasonable-compensation-for-owner-employees-2026-09-02
DTSTART;TZID=America/Denver:20260209T113000
DTEND;TZID=America/Denver:20260209T133000
END:VEVENT
END:VCALENDAR