BEGIN:VCALENDAR
VERSION:2.0
PRODID:spatie/icalendar-generator
NAME:Webinar (CPA Crossings): Monthly Federal Tax Updates - February 2026
 🗓️
X-WR-CALNAME:Webinar (CPA Crossings): Monthly Federal Tax Updates - Februar
 y 2026🗓️
BEGIN:VTIMEZONE
TZID:America/Denver
BEGIN:STANDARD
DTSTART:20251102T010000
TZOFFSETFROM:-0600
TZOFFSETTO:-0700
END:STANDARD
BEGIN:DAYLIGHT
DTSTART:20260308T010000
TZOFFSETFROM:-0700
TZOFFSETTO:-0600
END:DAYLIGHT
END:VTIMEZONE
BEGIN:VTIMEZONE
TZID:UTC
BEGIN:STANDARD
DTSTART:20250727T100422
TZOFFSETFROM:+0000
TZOFFSETTO:+0000
END:STANDARD
END:VTIMEZONE
BEGIN:VEVENT
UID:69e9eea6c2402
DTSTAMP:20260423T100422Z
SUMMARY:Webinar (CPA Crossings): Monthly Federal Tax Updates - February 202
 6🗓️
URL:https://cocpa.org/catalog/events/13707869-webinar-cpa-crossings-monthly
 -federal-tax-updates-february-2026-2026-09-02
DTSTART;TZID=America/Denver:20260209T090000
DTEND;TZID=America/Denver:20260209T110000
END:VEVENT
END:VCALENDAR