BEGIN:VCALENDAR
VERSION:2.0
PRODID:spatie/icalendar-generator
NAME:Webinar (CPA Crossings): 2024 PCAOB and SEC Update🗓️
X-WR-CALNAME:Webinar (CPA Crossings): 2024 PCAOB and SEC Update🗓️
BEGIN:VTIMEZONE
TZID:America/Denver
BEGIN:STANDARD
DTSTART:20251102T010000
TZOFFSETFROM:-0600
TZOFFSETTO:-0700
END:STANDARD
BEGIN:DAYLIGHT
DTSTART:20260308T010000
TZOFFSETFROM:-0700
TZOFFSETTO:-0600
END:DAYLIGHT
END:VTIMEZONE
BEGIN:VTIMEZONE
TZID:UTC
BEGIN:STANDARD
DTSTART:20250727T133655
TZOFFSETFROM:+0000
TZOFFSETTO:+0000
END:STANDARD
END:VTIMEZONE
BEGIN:VEVENT
UID:69ea2077a342c
DTSTAMP:20260423T133655Z
SUMMARY:Webinar (CPA Crossings): 2024 PCAOB and SEC Update🗓️
URL:https://cocpa.org/catalog/events/13707866-webinar-cpa-crossings-2024-pc
 aob-and-sec-update-2026-09-02
DTSTART;TZID=America/Denver:20260209T083000
DTEND;TZID=America/Denver:20260209T103000
END:VEVENT
END:VCALENDAR