BEGIN:VCALENDAR
VERSION:2.0
PRODID:spatie/icalendar-generator
NAME:Webinar (CPA Crossings): Financial & Tax Accounting for S Corporations
  & Partnerships🗓️
X-WR-CALNAME:Webinar (CPA Crossings): Financial & Tax Accounting for S Corp
 orations & Partnerships🗓️
BEGIN:VTIMEZONE
TZID:America/Denver
BEGIN:STANDARD
DTSTART:20251102T010000
TZOFFSETFROM:-0600
TZOFFSETTO:-0700
END:STANDARD
BEGIN:DAYLIGHT
DTSTART:20260308T010000
TZOFFSETFROM:-0700
TZOFFSETTO:-0600
END:DAYLIGHT
END:VTIMEZONE
BEGIN:VTIMEZONE
TZID:UTC
BEGIN:STANDARD
DTSTART:20250729T223230
TZOFFSETFROM:+0000
TZOFFSETTO:+0000
END:STANDARD
END:VTIMEZONE
BEGIN:VEVENT
UID:69ed40fe74f72
DTSTAMP:20260425T223230Z
SUMMARY:Webinar (CPA Crossings): Financial & Tax Accounting for S Corporati
 ons & Partnerships🗓️
URL:https://cocpa.org/catalog/events/13707803-webinar-cpa-crossings-financi
 al-tax-accounting-for-s-corporations-partnerships-2026-09-02
DTSTART;TZID=America/Denver:20260209T070000
DTEND;TZID=America/Denver:20260209T150000
END:VEVENT
END:VCALENDAR