BEGIN:VCALENDAR
VERSION:2.0
PRODID:spatie/icalendar-generator
NAME:Webinar (CPA Crossings): Generative AI Strategy for Accountants🗓️
X-WR-CALNAME:Webinar (CPA Crossings): Generative AI Strategy for Accountant
 s🗓️
BEGIN:VTIMEZONE
TZID:America/Denver
BEGIN:STANDARD
DTSTART:20251102T010000
TZOFFSETFROM:-0600
TZOFFSETTO:-0700
END:STANDARD
BEGIN:DAYLIGHT
DTSTART:20260308T010000
TZOFFSETFROM:-0700
TZOFFSETTO:-0600
END:DAYLIGHT
END:VTIMEZONE
BEGIN:VTIMEZONE
TZID:UTC
BEGIN:STANDARD
DTSTART:20250727T084449
TZOFFSETFROM:+0000
TZOFFSETTO:+0000
END:STANDARD
END:VTIMEZONE
BEGIN:VEVENT
UID:69e9dc018ba3e
DTSTAMP:20260423T084449Z
SUMMARY:Webinar (CPA Crossings): Generative AI Strategy for Accountants🗓
 ️
URL:https://cocpa.org/catalog/events/13707786-webinar-cpa-crossings-generat
 ive-ai-strategy-for-accountants-2026-06-02
DTSTART;TZID=America/Denver:20260206T140000
DTEND;TZID=America/Denver:20260206T160000
END:VEVENT
END:VCALENDAR