BEGIN:VCALENDAR
VERSION:2.0
PRODID:spatie/icalendar-generator
NAME:Webinar (CPA Crossings): Installment sales: Maximize Tax Benefits and 
 Stay Compliant🗓️
X-WR-CALNAME:Webinar (CPA Crossings): Installment sales: Maximize Tax Benef
 its and Stay Compliant🗓️
BEGIN:VTIMEZONE
TZID:America/Denver
BEGIN:STANDARD
DTSTART:20251102T010000
TZOFFSETFROM:-0600
TZOFFSETTO:-0700
END:STANDARD
BEGIN:DAYLIGHT
DTSTART:20260308T010000
TZOFFSETFROM:-0700
TZOFFSETTO:-0600
END:DAYLIGHT
END:VTIMEZONE
BEGIN:VTIMEZONE
TZID:UTC
BEGIN:STANDARD
DTSTART:20250727T134224
TZOFFSETFROM:+0000
TZOFFSETTO:+0000
END:STANDARD
END:VTIMEZONE
BEGIN:VEVENT
UID:69ea21c0497d4
DTSTAMP:20260423T134224Z
SUMMARY:Webinar (CPA Crossings): Installment sales: Maximize Tax Benefits a
 nd Stay Compliant🗓️
URL:https://cocpa.org/catalog/events/13707704-webinar-cpa-crossings-install
 ment-sales-maximize-tax-benefits-and-stay-compliant-2026-06-02
DTSTART;TZID=America/Denver:20260206T110000
DTEND;TZID=America/Denver:20260206T120000
END:VEVENT
END:VCALENDAR