BEGIN:VCALENDAR
VERSION:2.0
PRODID:spatie/icalendar-generator
NAME:Webinar (CPA Crossings): Best Non-Google Search Tools for Accountants
 🗓️
X-WR-CALNAME:Webinar (CPA Crossings): Best Non-Google Search Tools for Acco
 untants🗓️
BEGIN:VTIMEZONE
TZID:America/Denver
BEGIN:STANDARD
DTSTART:20251102T010000
TZOFFSETFROM:-0600
TZOFFSETTO:-0700
END:STANDARD
BEGIN:DAYLIGHT
DTSTART:20260308T010000
TZOFFSETFROM:-0700
TZOFFSETTO:-0600
END:DAYLIGHT
END:VTIMEZONE
BEGIN:VTIMEZONE
TZID:UTC
BEGIN:STANDARD
DTSTART:20250727T185925
TZOFFSETFROM:+0000
TZOFFSETTO:+0000
END:STANDARD
END:VTIMEZONE
BEGIN:VEVENT
UID:69ea6c0d05566
DTSTAMP:20260423T185925Z
SUMMARY:Webinar (CPA Crossings): Best Non-Google Search Tools for Accountan
 ts🗓️
URL:https://cocpa.org/catalog/events/13707681-webinar-cpa-crossings-best-no
 n-google-search-tools-for-accountants-2026-06-02
DTSTART;TZID=America/Denver:20260206T080000
DTEND;TZID=America/Denver:20260206T100000
END:VEVENT
END:VCALENDAR