BEGIN:VCALENDAR
VERSION:2.0
PRODID:spatie/icalendar-generator
NAME:Webinar (CPA Crossings): Introduction to Yellow Book: 8-Credit Boot Ca
 mp🗓️
X-WR-CALNAME:Webinar (CPA Crossings): Introduction to Yellow Book: 8-Credit
  Boot Camp🗓️
BEGIN:VTIMEZONE
TZID:America/Denver
BEGIN:STANDARD
DTSTART:20251102T010000
TZOFFSETFROM:-0600
TZOFFSETTO:-0700
END:STANDARD
BEGIN:DAYLIGHT
DTSTART:20260308T010000
TZOFFSETFROM:-0700
TZOFFSETTO:-0600
END:DAYLIGHT
END:VTIMEZONE
BEGIN:VTIMEZONE
TZID:UTC
BEGIN:STANDARD
DTSTART:20250727T101101
TZOFFSETFROM:+0000
TZOFFSETTO:+0000
END:STANDARD
END:VTIMEZONE
BEGIN:VEVENT
UID:69e9f0358ce66
DTSTAMP:20260423T101101Z
SUMMARY:Webinar (CPA Crossings): Introduction to Yellow Book: 8-Credit Boot
  Camp🗓️
URL:https://cocpa.org/catalog/events/13707673-webinar-cpa-crossings-introdu
 ction-to-yellow-book-8-credit-boot-camp-2026-06-02
DTSTART;TZID=America/Denver:20260206T070000
DTEND;TZID=America/Denver:20260206T150000
END:VEVENT
END:VCALENDAR