BEGIN:VCALENDAR
VERSION:2.0
PRODID:spatie/icalendar-generator
NAME:Webinar (CPA Crossings): Current Nonprofit Fraud Trends🗓️
X-WR-CALNAME:Webinar (CPA Crossings): Current Nonprofit Fraud Trends🗓️
BEGIN:VTIMEZONE
TZID:America/Denver
BEGIN:STANDARD
DTSTART:20251102T010000
TZOFFSETFROM:-0600
TZOFFSETTO:-0700
END:STANDARD
BEGIN:DAYLIGHT
DTSTART:20260308T010000
TZOFFSETFROM:-0700
TZOFFSETTO:-0600
END:DAYLIGHT
END:VTIMEZONE
BEGIN:VTIMEZONE
TZID:UTC
BEGIN:STANDARD
DTSTART:20250727T181232
TZOFFSETFROM:+0000
TZOFFSETTO:+0000
END:STANDARD
END:VTIMEZONE
BEGIN:VEVENT
UID:69ea61100172b
DTSTAMP:20260423T181232Z
SUMMARY:Webinar (CPA Crossings): Current Nonprofit Fraud Trends🗓️
URL:https://cocpa.org/catalog/events/13707656-webinar-cpa-crossings-current
 -nonprofit-fraud-trends-2026-06-02
DTSTART;TZID=America/Denver:20260206T070000
DTEND;TZID=America/Denver:20260206T110000
END:VEVENT
END:VCALENDAR