BEGIN:VCALENDAR
VERSION:2.0
PRODID:spatie/icalendar-generator
NAME:Webinar (CPA Crossings): Behind the Curtain: Exploring IRS Audit Techn
 ique Guides🗓️
X-WR-CALNAME:Webinar (CPA Crossings): Behind the Curtain: Exploring IRS Aud
 it Technique Guides🗓️
BEGIN:VTIMEZONE
TZID:America/Denver
BEGIN:STANDARD
DTSTART:20251102T010000
TZOFFSETFROM:-0600
TZOFFSETTO:-0700
END:STANDARD
BEGIN:DAYLIGHT
DTSTART:20260308T010000
TZOFFSETFROM:-0700
TZOFFSETTO:-0600
END:DAYLIGHT
END:VTIMEZONE
BEGIN:VTIMEZONE
TZID:UTC
BEGIN:STANDARD
DTSTART:20250727T135425
TZOFFSETFROM:+0000
TZOFFSETTO:+0000
END:STANDARD
END:VTIMEZONE
BEGIN:VEVENT
UID:69ea24912d4df
DTSTAMP:20260423T135425Z
SUMMARY:Webinar (CPA Crossings): Behind the Curtain: Exploring IRS Audit Te
 chnique Guides🗓️
URL:https://cocpa.org/catalog/events/13707521-webinar-cpa-crossings-behind-
 the-curtain-exploring-irs-audit-technique-guides-2026-04-02
DTSTART;TZID=America/Denver:20260204T123000
DTEND;TZID=America/Denver:20260204T143000
END:VEVENT
END:VCALENDAR