BEGIN:VCALENDAR
VERSION:2.0
PRODID:spatie/icalendar-generator
NAME:Webinar (CPA Crossings): A Working Parent's Guide to Prioritizing Ment
 al Wellness🗓️
X-WR-CALNAME:Webinar (CPA Crossings): A Working Parent's Guide to Prioritiz
 ing Mental Wellness🗓️
BEGIN:VTIMEZONE
TZID:America/Denver
BEGIN:STANDARD
DTSTART:20251102T010000
TZOFFSETFROM:-0600
TZOFFSETTO:-0700
END:STANDARD
BEGIN:DAYLIGHT
DTSTART:20260308T010000
TZOFFSETFROM:-0700
TZOFFSETTO:-0600
END:DAYLIGHT
END:VTIMEZONE
BEGIN:VTIMEZONE
TZID:UTC
BEGIN:STANDARD
DTSTART:20250727T100728
TZOFFSETFROM:+0000
TZOFFSETTO:+0000
END:STANDARD
END:VTIMEZONE
BEGIN:VEVENT
UID:69e9ef60755ec
DTSTAMP:20260423T100728Z
SUMMARY:Webinar (CPA Crossings): A Working Parent's Guide to Prioritizing M
 ental Wellness🗓️
URL:https://cocpa.org/catalog/events/13707502-webinar-cpa-crossings-a-worki
 ng-parents-guide-to-prioritizing-mental-wellness-2026-04-02
DTSTART;TZID=America/Denver:20260204T110000
DTEND;TZID=America/Denver:20260204T130000
END:VEVENT
END:VCALENDAR