BEGIN:VCALENDAR
VERSION:2.0
PRODID:spatie/icalendar-generator
NAME:Webinar (CPA Crossings): Leveraging Marketing Automation for Accountin
 g Firm Growth🗓️
X-WR-CALNAME:Webinar (CPA Crossings): Leveraging Marketing Automation for A
 ccounting Firm Growth🗓️
BEGIN:VTIMEZONE
TZID:America/Denver
BEGIN:STANDARD
DTSTART:20251102T010000
TZOFFSETFROM:-0600
TZOFFSETTO:-0700
END:STANDARD
BEGIN:DAYLIGHT
DTSTART:20260308T010000
TZOFFSETFROM:-0700
TZOFFSETTO:-0600
END:DAYLIGHT
END:VTIMEZONE
BEGIN:VTIMEZONE
TZID:UTC
BEGIN:STANDARD
DTSTART:20250727T220619
TZOFFSETFROM:+0000
TZOFFSETTO:+0000
END:STANDARD
END:VTIMEZONE
BEGIN:VEVENT
UID:69ea97db69f04
DTSTAMP:20260423T220619Z
SUMMARY:Webinar (CPA Crossings): Leveraging Marketing Automation for Accoun
 ting Firm Growth🗓️
URL:https://cocpa.org/catalog/events/13707500-webinar-cpa-crossings-leverag
 ing-marketing-automation-for-accounting-firm-growth-2026-04-02
DTSTART;TZID=America/Denver:20260204T113000
DTEND;TZID=America/Denver:20260204T123000
END:VEVENT
END:VCALENDAR