BEGIN:VCALENDAR
VERSION:2.0
PRODID:spatie/icalendar-generator
NAME:Webinar (CPA Crossings): Income Tax Analysis: Exploring In-Depth Conce
 pts🗓️
X-WR-CALNAME:Webinar (CPA Crossings): Income Tax Analysis: Exploring In-Dep
 th Concepts🗓️
BEGIN:VTIMEZONE
TZID:America/Denver
BEGIN:STANDARD
DTSTART:20251102T010000
TZOFFSETFROM:-0600
TZOFFSETTO:-0700
END:STANDARD
BEGIN:DAYLIGHT
DTSTART:20260308T010000
TZOFFSETFROM:-0700
TZOFFSETTO:-0600
END:DAYLIGHT
END:VTIMEZONE
BEGIN:VTIMEZONE
TZID:UTC
BEGIN:STANDARD
DTSTART:20250727T101153
TZOFFSETFROM:+0000
TZOFFSETTO:+0000
END:STANDARD
END:VTIMEZONE
BEGIN:VEVENT
UID:69e9f06974738
DTSTAMP:20260423T101153Z
SUMMARY:Webinar (CPA Crossings): Income Tax Analysis: Exploring In-Depth Co
 ncepts🗓️
URL:https://cocpa.org/catalog/events/13707487-webinar-cpa-crossings-income-
 tax-analysis-exploring-in-depth-concepts-2026-04-02
DTSTART;TZID=America/Denver:20260204T103000
DTEND;TZID=America/Denver:20260204T123000
END:VEVENT
END:VCALENDAR