BEGIN:VCALENDAR
VERSION:2.0
PRODID:spatie/icalendar-generator
NAME:Webinar (CPA Crossings): Accounting for and Auditing Cryptocurrency & 
 Digital Assets🗓️
X-WR-CALNAME:Webinar (CPA Crossings): Accounting for and Auditing Cryptocur
 rency & Digital Assets🗓️
BEGIN:VTIMEZONE
TZID:America/Denver
BEGIN:STANDARD
DTSTART:20251102T010000
TZOFFSETFROM:-0600
TZOFFSETTO:-0700
END:STANDARD
BEGIN:DAYLIGHT
DTSTART:20260308T010000
TZOFFSETFROM:-0700
TZOFFSETTO:-0600
END:DAYLIGHT
END:VTIMEZONE
BEGIN:VTIMEZONE
TZID:UTC
BEGIN:STANDARD
DTSTART:20250727T084449
TZOFFSETFROM:+0000
TZOFFSETTO:+0000
END:STANDARD
END:VTIMEZONE
BEGIN:VEVENT
UID:69e9dc018b451
DTSTAMP:20260423T084449Z
SUMMARY:Webinar (CPA Crossings): Accounting for and Auditing Cryptocurrency
  & Digital Assets🗓️
URL:https://cocpa.org/catalog/events/13707476-webinar-cpa-crossings-account
 ing-for-and-auditing-cryptocurrency-digital-assets-2026-04-02
DTSTART;TZID=America/Denver:20260204T093000
DTEND;TZID=America/Denver:20260204T113000
END:VEVENT
END:VCALENDAR