BEGIN:VCALENDAR
VERSION:2.0
PRODID:spatie/icalendar-generator
NAME:Webinar (CPA Crossings): Using e-Signature Software to Process Agreeme
 nts-Updated🗓️
X-WR-CALNAME:Webinar (CPA Crossings): Using e-Signature Software to Process
  Agreements-Updated🗓️
BEGIN:VTIMEZONE
TZID:America/Denver
BEGIN:STANDARD
DTSTART:20251102T010000
TZOFFSETFROM:-0600
TZOFFSETTO:-0700
END:STANDARD
BEGIN:DAYLIGHT
DTSTART:20260308T010000
TZOFFSETFROM:-0700
TZOFFSETTO:-0600
END:DAYLIGHT
END:VTIMEZONE
BEGIN:VTIMEZONE
TZID:UTC
BEGIN:STANDARD
DTSTART:20250727T084435
TZOFFSETFROM:+0000
TZOFFSETTO:+0000
END:STANDARD
END:VTIMEZONE
BEGIN:VEVENT
UID:69e9dbf32e13e
DTSTAMP:20260423T084435Z
SUMMARY:Webinar (CPA Crossings): Using e-Signature Software to Process Agre
 ements-Updated🗓️
URL:https://cocpa.org/catalog/events/13707441-webinar-cpa-crossings-using-e
 -signature-software-to-process-agreements-updated-2026-04-02
DTSTART;TZID=America/Denver:20260204T080000
DTEND;TZID=America/Denver:20260204T100000
END:VEVENT
END:VCALENDAR