BEGIN:VCALENDAR
VERSION:2.0
PRODID:spatie/icalendar-generator
NAME:Webinar (CPA Crossings): AI Prompt Engineering Masterclass for Account
 ants🗓️
X-WR-CALNAME:Webinar (CPA Crossings): AI Prompt Engineering Masterclass for
  Accountants🗓️
BEGIN:VTIMEZONE
TZID:America/Denver
BEGIN:STANDARD
DTSTART:20251102T010000
TZOFFSETFROM:-0600
TZOFFSETTO:-0700
END:STANDARD
BEGIN:DAYLIGHT
DTSTART:20260308T010000
TZOFFSETFROM:-0700
TZOFFSETTO:-0600
END:DAYLIGHT
END:VTIMEZONE
BEGIN:VTIMEZONE
TZID:UTC
BEGIN:STANDARD
DTSTART:20250729T165916
TZOFFSETFROM:+0000
TZOFFSETTO:+0000
END:STANDARD
END:VTIMEZONE
BEGIN:VEVENT
UID:69ecf2e4a5717
DTSTAMP:20260425T165916Z
SUMMARY:Webinar (CPA Crossings): AI Prompt Engineering Masterclass for Acco
 untants🗓️
URL:https://cocpa.org/catalog/events/13704147-webinar-cpa-crossings-ai-prom
 pt-engineering-masterclass-for-accountants-2026-27-04
DTSTART;TZID=America/Denver:20260427T133000
DTEND;TZID=America/Denver:20260427T153000
END:VEVENT
END:VCALENDAR