BEGIN:VCALENDAR
VERSION:2.0
PRODID:spatie/icalendar-generator
NAME:Webinar (CPA Crossings): What's Changing in A&A for Governmental Entit
 ies (2025)🗓️
X-WR-CALNAME:Webinar (CPA Crossings): What's Changing in A&A for Government
 al Entities (2025)🗓️
BEGIN:VTIMEZONE
TZID:America/Denver
BEGIN:STANDARD
DTSTART:20251102T010000
TZOFFSETFROM:-0600
TZOFFSETTO:-0700
END:STANDARD
BEGIN:DAYLIGHT
DTSTART:20260308T010000
TZOFFSETFROM:-0700
TZOFFSETTO:-0600
END:DAYLIGHT
END:VTIMEZONE
BEGIN:VTIMEZONE
TZID:UTC
BEGIN:STANDARD
DTSTART:20250726T080710
TZOFFSETFROM:+0000
TZOFFSETTO:+0000
END:STANDARD
END:VTIMEZONE
BEGIN:VEVENT
UID:69e881ae09820
DTSTAMP:20260422T080710Z
SUMMARY:Webinar (CPA Crossings): What's Changing in A&A for Governmental En
 tities (2025)🗓️
URL:https://cocpa.org/catalog/events/13703728-webinar-cpa-crossings-whats-c
 hanging-in-aa-for-governmental-entities-2025-2026-27-04
DTSTART;TZID=America/Denver:20260427T070000
DTEND;TZID=America/Denver:20260427T110000
END:VEVENT
END:VCALENDAR