BEGIN:VCALENDAR
VERSION:2.0
PRODID:spatie/icalendar-generator
NAME:Webinar (CPA Crossings): Disrupt to Dominate: Mastering Change Leaders
 hip🗓️
X-WR-CALNAME:Webinar (CPA Crossings): Disrupt to Dominate: Mastering Change
  Leadership🗓️
BEGIN:VTIMEZONE
TZID:America/Denver
BEGIN:STANDARD
DTSTART:20251102T010000
TZOFFSETFROM:-0600
TZOFFSETTO:-0700
END:STANDARD
BEGIN:DAYLIGHT
DTSTART:20260308T010000
TZOFFSETFROM:-0700
TZOFFSETTO:-0600
END:DAYLIGHT
END:VTIMEZONE
BEGIN:VTIMEZONE
TZID:UTC
BEGIN:STANDARD
DTSTART:20250726T200907
TZOFFSETFROM:+0000
TZOFFSETTO:+0000
END:STANDARD
END:VTIMEZONE
BEGIN:VEVENT
UID:69e92ae3885a8
DTSTAMP:20260422T200907Z
SUMMARY:Webinar (CPA Crossings): Disrupt to Dominate: Mastering Change Lead
 ership🗓️
URL:https://cocpa.org/catalog/events/13701654-webinar-cpa-crossings-disrupt
 -to-dominate-mastering-change-leadership-2026-20-04
DTSTART;TZID=America/Denver:20260420T120000
DTEND;TZID=America/Denver:20260420T160000
END:VEVENT
END:VCALENDAR