BEGIN:VCALENDAR
VERSION:2.0
PRODID:spatie/icalendar-generator
NAME:Webinar (CPA Crossings): IRS Penalties and Abatements🗓️
X-WR-CALNAME:Webinar (CPA Crossings): IRS Penalties and Abatements🗓️
BEGIN:VTIMEZONE
TZID:America/Denver
BEGIN:STANDARD
DTSTART:20251102T010000
TZOFFSETFROM:-0600
TZOFFSETTO:-0700
END:STANDARD
BEGIN:DAYLIGHT
DTSTART:20260308T010000
TZOFFSETFROM:-0700
TZOFFSETTO:-0600
END:DAYLIGHT
END:VTIMEZONE
BEGIN:VTIMEZONE
TZID:UTC
BEGIN:STANDARD
DTSTART:20250726T020926
TZOFFSETFROM:+0000
TZOFFSETTO:+0000
END:STANDARD
END:VTIMEZONE
BEGIN:VEVENT
UID:69e82dd63edc6
DTSTAMP:20260422T020926Z
SUMMARY:Webinar (CPA Crossings): IRS Penalties and Abatements🗓️
URL:https://cocpa.org/catalog/events/13701226-webinar-cpa-crossings-irs-pen
 alties-and-abatements-2026-17-04
DTSTART;TZID=America/Denver:20260417T140000
DTEND;TZID=America/Denver:20260417T160000
END:VEVENT
END:VCALENDAR