BEGIN:VCALENDAR
VERSION:2.0
PRODID:spatie/icalendar-generator
NAME:Webinar (CPA Crossings): The 10 Must Know Excel Features🗓️
X-WR-CALNAME:Webinar (CPA Crossings): The 10 Must Know Excel Features🗓
 ️
BEGIN:VTIMEZONE
TZID:America/Denver
BEGIN:STANDARD
DTSTART:20251102T010000
TZOFFSETFROM:-0600
TZOFFSETTO:-0700
END:STANDARD
BEGIN:DAYLIGHT
DTSTART:20260308T010000
TZOFFSETFROM:-0700
TZOFFSETTO:-0600
END:DAYLIGHT
END:VTIMEZONE
BEGIN:VTIMEZONE
TZID:UTC
BEGIN:STANDARD
DTSTART:20250727T144819
TZOFFSETFROM:+0000
TZOFFSETTO:+0000
END:STANDARD
END:VTIMEZONE
BEGIN:VEVENT
UID:69ea31338e34e
DTSTAMP:20260423T144819Z
SUMMARY:Webinar (CPA Crossings): The 10 Must Know Excel Features🗓️
URL:https://cocpa.org/catalog/events/13701210-webinar-cpa-crossings-the-10-
 must-know-excel-features-2026-17-04
DTSTART;TZID=America/Denver:20260417T130000
DTEND;TZID=America/Denver:20260417T150000
END:VEVENT
END:VCALENDAR