BEGIN:VCALENDAR
VERSION:2.0
PRODID:spatie/icalendar-generator
NAME:Webinar (CPA Crossings): The Role of Internal Control in the Risk-Base
 d Audit🗓️
X-WR-CALNAME:Webinar (CPA Crossings): The Role of Internal Control in the R
 isk-Based Audit🗓️
BEGIN:VTIMEZONE
TZID:America/Denver
BEGIN:STANDARD
DTSTART:20251102T010000
TZOFFSETFROM:-0600
TZOFFSETTO:-0700
END:STANDARD
BEGIN:DAYLIGHT
DTSTART:20260308T010000
TZOFFSETFROM:-0700
TZOFFSETTO:-0600
END:DAYLIGHT
END:VTIMEZONE
BEGIN:VTIMEZONE
TZID:UTC
BEGIN:STANDARD
DTSTART:20250726T021237
TZOFFSETFROM:+0000
TZOFFSETTO:+0000
END:STANDARD
END:VTIMEZONE
BEGIN:VEVENT
UID:69e82e95d729c
DTSTAMP:20260422T021237Z
SUMMARY:Webinar (CPA Crossings): The Role of Internal Control in the Risk-B
 ased Audit🗓️
URL:https://cocpa.org/catalog/events/13701186-webinar-cpa-crossings-the-rol
 e-of-internal-control-in-the-risk-based-audit-2026-17-04
DTSTART;TZID=America/Denver:20260417T120000
DTEND;TZID=America/Denver:20260417T160000
END:VEVENT
END:VCALENDAR