BEGIN:VCALENDAR
VERSION:2.0
PRODID:spatie/icalendar-generator
NAME:Webinar (CPA Crossings): Taking Advantage of Array Formulas in Excel
 🗓️
X-WR-CALNAME:Webinar (CPA Crossings): Taking Advantage of Array Formulas in
  Excel🗓️
BEGIN:VTIMEZONE
TZID:America/Denver
BEGIN:STANDARD
DTSTART:20251102T010000
TZOFFSETFROM:-0600
TZOFFSETTO:-0700
END:STANDARD
BEGIN:DAYLIGHT
DTSTART:20260308T010000
TZOFFSETFROM:-0700
TZOFFSETTO:-0600
END:DAYLIGHT
END:VTIMEZONE
BEGIN:VTIMEZONE
TZID:UTC
BEGIN:STANDARD
DTSTART:20250726T041237
TZOFFSETFROM:+0000
TZOFFSETTO:+0000
END:STANDARD
END:VTIMEZONE
BEGIN:VEVENT
UID:69e84ab5dc4ff
DTSTAMP:20260422T041237Z
SUMMARY:Webinar (CPA Crossings): Taking Advantage of Array Formulas in Exce
 l🗓️
URL:https://cocpa.org/catalog/events/13701042-webinar-cpa-crossings-taking-
 advantage-of-array-formulas-in-excel-2026-17-04
DTSTART;TZID=America/Denver:20260417T100000
DTEND;TZID=America/Denver:20260417T120000
END:VEVENT
END:VCALENDAR