BEGIN:VCALENDAR
VERSION:2.0
PRODID:spatie/icalendar-generator
NAME:Webinar (CPA Crossings): Using ChatGPT with Excel🗓️
X-WR-CALNAME:Webinar (CPA Crossings): Using ChatGPT with Excel🗓️
BEGIN:VTIMEZONE
TZID:America/Denver
BEGIN:STANDARD
DTSTART:20251102T010000
TZOFFSETFROM:-0600
TZOFFSETTO:-0700
END:STANDARD
BEGIN:DAYLIGHT
DTSTART:20260308T010000
TZOFFSETFROM:-0700
TZOFFSETTO:-0600
END:DAYLIGHT
END:VTIMEZONE
BEGIN:VTIMEZONE
TZID:UTC
BEGIN:STANDARD
DTSTART:20250723T183542
TZOFFSETFROM:+0000
TZOFFSETTO:+0000
END:STANDARD
END:VTIMEZONE
BEGIN:VEVENT
UID:69e5207e69699
DTSTAMP:20260419T183542Z
SUMMARY:Webinar (CPA Crossings): Using ChatGPT with Excel🗓️
URL:https://cocpa.org/catalog/events/13700778-webinar-cpa-crossings-using-c
 hatgpt-with-excel-2026-16-04
DTSTART;TZID=America/Denver:20260416T133000
DTEND;TZID=America/Denver:20260416T153000
END:VEVENT
END:VCALENDAR