BEGIN:VCALENDAR
VERSION:2.0
PRODID:spatie/icalendar-generator
NAME:Hands On\, Dive In: From Zero to Daily Use with Generative AI
X-WR-CALNAME:Hands On\, Dive In: From Zero to Daily Use with Generative AI
BEGIN:VTIMEZONE
TZID:America/Denver
BEGIN:DAYLIGHT
DTSTART:20250309T010000
TZOFFSETFROM:-0700
TZOFFSETTO:-0600
END:DAYLIGHT
BEGIN:STANDARD
DTSTART:20251102T010000
TZOFFSETFROM:-0600
TZOFFSETTO:-0700
END:STANDARD
BEGIN:DAYLIGHT
DTSTART:20260308T010000
TZOFFSETFROM:-0700
TZOFFSETTO:-0600
END:DAYLIGHT
END:VTIMEZONE
BEGIN:VTIMEZONE
TZID:UTC
BEGIN:STANDARD
DTSTART:20250723T140853
TZOFFSETFROM:+0000
TZOFFSETTO:+0000
END:STANDARD
END:VTIMEZONE
BEGIN:VEVENT
UID:69e4e1f5228cd
DTSTAMP:20260419T140853Z
SUMMARY:Hands On\, Dive In: From Zero to Daily Use with Generative AI
LOCATION:1420 Stout St\, Denver\, Denver County\, Colorado 80202-3201
URL:https://cocpa.org/catalog/events/13681629-hands-on-dive-in-from-zero-to
 -daily-use-with-generative-ai-2025-11-11
DTSTART;TZID=America/Denver:20251111T130000
DTEND;TZID=America/Denver:20251111T160000
GEO:39.744242;-104.994843
X-APPLE-STRUCTURED-LOCATION;VALUE=URI;X-ADDRESS=1420 Stout St\, Denver\, De
 nver County\, Colorado 80202-3201;X-APPLE-RADIUS=72;X-TITLE=Embassy Suites
  Denver Downtown:geo:39.744242,-104.994843
END:VEVENT
END:VCALENDAR