BEGIN:VCALENDAR
VERSION:2.0
PRODID:spatie/icalendar-generator
NAME:2025 Summer of Fun – Sip and Socialize: Wine Tasting
X-WR-CALNAME:2025 Summer of Fun – Sip and Socialize: Wine Tasting
BEGIN:VTIMEZONE
TZID:America/Denver
BEGIN:STANDARD
DTSTART:20241103T010000
TZOFFSETFROM:-0600
TZOFFSETTO:-0700
END:STANDARD
BEGIN:DAYLIGHT
DTSTART:20250309T010000
TZOFFSETFROM:-0700
TZOFFSETTO:-0600
END:DAYLIGHT
BEGIN:STANDARD
DTSTART:20251102T010000
TZOFFSETFROM:-0600
TZOFFSETTO:-0700
END:STANDARD
END:VTIMEZONE
BEGIN:VTIMEZONE
TZID:UTC
BEGIN:STANDARD
DTSTART:20250728T084243
TZOFFSETFROM:+0000
TZOFFSETTO:+0000
END:STANDARD
END:VTIMEZONE
BEGIN:VEVENT
UID:69eb2d030d786
DTSTAMP:20260424T084243Z
SUMMARY:2025 Summer of Fun – Sip and Socialize: Wine Tasting
LOCATION:3563 Wazee St\, Denver\, Denver County\, Colorado 80216
URL:https://cocpa.org/catalog/events/13658536-2025-summer-of-fun-sip-and-so
 cialize-wine-tasting-2025-28-05
DTSTART;TZID=America/Denver:20250528T170000
DTEND;TZID=America/Denver:20250528T200000
GEO:39.769845;-104.976199
X-APPLE-STRUCTURED-LOCATION;VALUE=URI;X-ADDRESS=3563 Wazee St\, Denver\, De
 nver County\, Colorado 80216;X-APPLE-RADIUS=72;X-TITLE=Bigsby’s Folly Cr
 aft Winery:geo:39.769845,-104.976199
END:VEVENT
END:VCALENDAR