BEGIN:VCALENDAR
VERSION:2.0
PRODID:spatie/icalendar-generator
NAME:2025 Women's Summit - Resilience: Bending with Grace\, Rising with Pow
 er
X-WR-CALNAME:2025 Women's Summit - Resilience: Bending with Grace\, Rising 
 with Power
BEGIN:VTIMEZONE
TZID:America/Denver
BEGIN:DAYLIGHT
DTSTART:20250309T010000
TZOFFSETFROM:-0700
TZOFFSETTO:-0600
END:DAYLIGHT
BEGIN:STANDARD
DTSTART:20251102T010000
TZOFFSETFROM:-0600
TZOFFSETTO:-0700
END:STANDARD
END:VTIMEZONE
BEGIN:VTIMEZONE
TZID:UTC
BEGIN:STANDARD
DTSTART:20250727T113128
TZOFFSETFROM:+0000
TZOFFSETTO:+0000
END:STANDARD
END:VTIMEZONE
BEGIN:VEVENT
UID:69ea0310424aa
DTSTAMP:20260423T113128Z
SUMMARY:2025 Women's Summit - Resilience: Bending with Grace\, Rising with 
 Power
LOCATION:5345 Landmark Pl\, Greenwood Village\, Arapahoe County\, Colorado 
 80111
URL:https://cocpa.org/catalog/events/13640500-2025-womens-summit-resilience
 -bending-with-grace-rising-with-power-2025-22-08
DTSTART;TZID=America/Denver:20250822T083000
DTEND;TZID=America/Denver:20250822T170000
GEO:39.618689;-104.901507
X-APPLE-STRUCTURED-LOCATION;VALUE=URI;X-ADDRESS=5345 Landmark Pl\, Greenwoo
 d Village\, Arapahoe County\, Colorado 80111;X-APPLE-RADIUS=72;X-TITLE=The
  Curtis Ballroom at Landmark - Greenwood Village:geo:39.618689,-104.901507
END:VEVENT
END:VCALENDAR