BEGIN:VCALENDAR
VERSION:2.0
PRODID:spatie/icalendar-generator
NAME:COCPA Virtual Mock CPA Exam – February\, 2025
X-WR-CALNAME:COCPA Virtual Mock CPA Exam – February\, 2025
BEGIN:VTIMEZONE
TZID:America/Denver
BEGIN:STANDARD
DTSTART:20241103T010000
TZOFFSETFROM:-0600
TZOFFSETTO:-0700
END:STANDARD
BEGIN:DAYLIGHT
DTSTART:20250309T010000
TZOFFSETFROM:-0700
TZOFFSETTO:-0600
END:DAYLIGHT
END:VTIMEZONE
BEGIN:VTIMEZONE
TZID:UTC
BEGIN:STANDARD
DTSTART:20250728T084248
TZOFFSETFROM:+0000
TZOFFSETTO:+0000
END:STANDARD
END:VTIMEZONE
BEGIN:VEVENT
UID:69eb2d0814d9d
DTSTAMP:20260424T084248Z
SUMMARY:COCPA Virtual Mock CPA Exam – February\, 2025
LOCATION: 
URL:https://cocpa.org/catalog/events/13511305-cocpa-virtual-mock-cpa-exam-f
 ebruary-2025-2025-07-02
DTSTART;TZID=America/Denver:20250207T130000
DTEND;TZID=America/Denver:20250207T180000
END:VEVENT
END:VCALENDAR